BEGIN:VCALENDAR
VERSION:2.0
PRODID:-//Tukios.com/
BEGIN:VEVENT
UID:64285958-076c-4244-8ba5-505ad98d9cab@www.steeleyfuneralhome.com
DTSTAMP:20260422T025556Z
DTSTART:20260424T150000Z
DTEND:20260424T160000Z
SUMMARY:Mass of Christian Burial
DESCRIPTION:
URL:https://www.steeleyfuneralhome.com/obituaries/anna-breckenridge
LOCATION:St. Agnes Roman Catholic Church 445 North Main Street  
	Sellersville PA 18960
GEO:40.3653082;-75.3123465
END:VEVENT
END:VCALENDAR